BEGIN:VCALENDAR
VERSION:2.0
PRODID:-//Scriptless in Seattle - ECPv6.15.20//NONSGML v1.0//EN
CALSCALE:GREGORIAN
METHOD:PUBLISH
X-WR-CALNAME:Scriptless in Seattle
X-ORIGINAL-URL:https://scriptlessinseattle.com
X-WR-CALDESC:Events for Scriptless in Seattle
REFRESH-INTERVAL;VALUE=DURATION:PT1H
X-Robots-Tag:noindex
X-PUBLISHED-TTL:PT1H
BEGIN:VTIMEZONE
TZID:America/New_York
BEGIN:DAYLIGHT
TZOFFSETFROM:-0500
TZOFFSETTO:-0400
TZNAME:EDT
DTSTART:20250309T070000
END:DAYLIGHT
BEGIN:STANDARD
TZOFFSETFROM:-0400
TZOFFSETTO:-0500
TZNAME:EST
DTSTART:20251102T060000
END:STANDARD
BEGIN:DAYLIGHT
TZOFFSETFROM:-0500
TZOFFSETTO:-0400
TZNAME:EDT
DTSTART:20260308T070000
END:DAYLIGHT
BEGIN:STANDARD
TZOFFSETFROM:-0400
TZOFFSETTO:-0500
TZNAME:EST
DTSTART:20261101T060000
END:STANDARD
BEGIN:DAYLIGHT
TZOFFSETFROM:-0500
TZOFFSETTO:-0400
TZNAME:EDT
DTSTART:20270314T070000
END:DAYLIGHT
BEGIN:STANDARD
TZOFFSETFROM:-0400
TZOFFSETTO:-0500
TZNAME:EST
DTSTART:20271107T060000
END:STANDARD
END:VTIMEZONE
BEGIN:VEVENT
DTSTART;TZID=America/New_York:20260515T190000
DTEND;TZID=America/New_York:20260515T210000
DTSTAMP:20260423T083050
CREATED:20260407T122646Z
LAST-MODIFIED:20260407T122646Z
UID:506-1778871600-1778878800@scriptlessinseattle.com
SUMMARY:Saltsburg\, PA
DESCRIPTION:
URL:https://scriptlessinseattle.com/shows/saltsburg-pa-2/
LOCATION:The Salt Center\, 718 Pine Street\, Saltsburg\, PA\, 15681\, United States
END:VEVENT
BEGIN:VEVENT
DTSTART;TZID=America/New_York:20260516T200000
DTEND;TZID=America/New_York:20260516T220000
DTSTAMP:20260423T083050
CREATED:20260302T231454Z
LAST-MODIFIED:20260302T231454Z
UID:499-1778961600-1778968800@scriptlessinseattle.com
SUMMARY:Chagrin Falls\, OH
DESCRIPTION:
URL:https://scriptlessinseattle.com/shows/chagrin-falls-oh/
LOCATION:The Hive\, 8200 E Washington St\, Chagrin Falls\, OH\, 44023\, United States
END:VEVENT
BEGIN:VEVENT
DTSTART;TZID=America/New_York:20260523T190000
DTEND;TZID=America/New_York:20260523T210000
DTSTAMP:20260423T083050
CREATED:20260407T122856Z
LAST-MODIFIED:20260407T122856Z
UID:508-1779562800-1779570000@scriptlessinseattle.com
SUMMARY:Springdale\, UT
DESCRIPTION:
URL:https://scriptlessinseattle.com/shows/springdale-ut/
LOCATION:Bumbleberry Theater\, 897 Zion Park Blvd\, Springdale\, UT\, 84767\, United States
END:VEVENT
END:VCALENDAR