BEGIN:VCALENDAR
VERSION:2.0
PRODID:-//Scriptless in Seattle - ECPv6.15.20//NONSGML v1.0//EN
CALSCALE:GREGORIAN
METHOD:PUBLISH
X-ORIGINAL-URL:https://scriptlessinseattle.com
X-WR-CALDESC:Events for Scriptless in Seattle
REFRESH-INTERVAL;VALUE=DURATION:PT1H
X-Robots-Tag:noindex
X-PUBLISHED-TTL:PT1H
BEGIN:VTIMEZONE
TZID:America/New_York
BEGIN:DAYLIGHT
TZOFFSETFROM:-0500
TZOFFSETTO:-0400
TZNAME:EDT
DTSTART:20240310T070000
END:DAYLIGHT
BEGIN:STANDARD
TZOFFSETFROM:-0400
TZOFFSETTO:-0500
TZNAME:EST
DTSTART:20241103T060000
END:STANDARD
BEGIN:DAYLIGHT
TZOFFSETFROM:-0500
TZOFFSETTO:-0400
TZNAME:EDT
DTSTART:20250309T070000
END:DAYLIGHT
BEGIN:STANDARD
TZOFFSETFROM:-0400
TZOFFSETTO:-0500
TZNAME:EST
DTSTART:20251102T060000
END:STANDARD
BEGIN:DAYLIGHT
TZOFFSETFROM:-0500
TZOFFSETTO:-0400
TZNAME:EDT
DTSTART:20260308T070000
END:DAYLIGHT
BEGIN:STANDARD
TZOFFSETFROM:-0400
TZOFFSETTO:-0500
TZNAME:EST
DTSTART:20261101T060000
END:STANDARD
END:VTIMEZONE
BEGIN:VEVENT
DTSTART;TZID=America/New_York:20250821T193000
DTEND;TZID=America/New_York:20250821T213000
DTSTAMP:20260423T192636
CREATED:20250401T194821Z
LAST-MODIFIED:20250401T194821Z
UID:415-1755804600-1755811800@scriptlessinseattle.com
SUMMARY:Marion\, IA
DESCRIPTION:
URL:https://scriptlessinseattle.com/shows/marion-ia/
LOCATION:Giving Tree Theater\, 752 10th St\, Marion\, IA\, 52302\, United States
END:VEVENT
BEGIN:VEVENT
DTSTART;TZID=America/New_York:20250621T190000
DTEND;TZID=America/New_York:20250621T210000
DTSTAMP:20260423T192636
CREATED:20250419T212242Z
LAST-MODIFIED:20250419T212242Z
UID:418-1750532400-1750539600@scriptlessinseattle.com
SUMMARY:Twin Falls\, ID
DESCRIPTION:
URL:https://scriptlessinseattle.com/shows/twin-falls-id/
LOCATION:The Orpheum Theatre\, 146 Main Ave N\, Twin Falls\, ID\, 83301\, United States
END:VEVENT
BEGIN:VEVENT
DTSTART;TZID=America/New_York:20250604T190000
DTEND;TZID=America/New_York:20250604T210000
DTSTAMP:20260423T192636
CREATED:20250305T170950Z
LAST-MODIFIED:20250305T170950Z
UID:406-1749063600-1749070800@scriptlessinseattle.com
SUMMARY:Balbriggan\, IE
DESCRIPTION:
URL:https://scriptlessinseattle.com/shows/balbriggan-ie/
LOCATION:The Lark Concert Hall\, Church St\, Balbriggan\, Dublin\, K32 YV56\, Ireland
END:VEVENT
BEGIN:VEVENT
DTSTART;TZID=America/New_York:20250602T200000
DTEND;TZID=America/New_York:20250602T210000
DTSTAMP:20260423T192636
CREATED:20250321T040130Z
LAST-MODIFIED:20250321T040130Z
UID:409-1748894400-1748898000@scriptlessinseattle.com
SUMMARY:Tubbercurry\, IE
DESCRIPTION:
URL:https://scriptlessinseattle.com/shows/tubbercurry-ie/
LOCATION:St. Brigids Hall\, Wolfe Tone Square\, Tubbercurry\, Silgo\, F91 VK19\, Ireland
END:VEVENT
BEGIN:VEVENT
DTSTART;TZID=America/New_York:20250530T190000
DTEND;TZID=America/New_York:20250530T210000
DTSTAMP:20260423T192636
CREATED:20250401T173203Z
LAST-MODIFIED:20250401T173203Z
UID:412-1748631600-1748638800@scriptlessinseattle.com
SUMMARY:Saltsburg\, PA
DESCRIPTION:
URL:https://scriptlessinseattle.com/shows/saltsburg-pa/
LOCATION:The Salt Center\, 718 Pine Street\, Saltsburg\, PA\, 15681\, United States
END:VEVENT
BEGIN:VEVENT
DTSTART;TZID=America/New_York:20250426T193000
DTEND;TZID=America/New_York:20250426T213000
DTSTAMP:20260423T192636
CREATED:20250124T160007Z
LAST-MODIFIED:20250124T160007Z
UID:395-1745695800-1745703000@scriptlessinseattle.com
SUMMARY:Endicott\, NY
DESCRIPTION:
URL:https://scriptlessinseattle.com/shows/endicott-ny-2/
LOCATION:Cider Mill Stage\, 2 Nanticoke Ave.\, Endicott\, NY\, 13760\, United States
END:VEVENT
BEGIN:VEVENT
DTSTART;TZID=America/New_York:20250425T193000
DTEND;TZID=America/New_York:20250425T213000
DTSTAMP:20260423T192636
CREATED:20250124T155804Z
LAST-MODIFIED:20250124T155804Z
UID:392-1745609400-1745616600@scriptlessinseattle.com
SUMMARY:Endicott\, NY
DESCRIPTION:
URL:https://scriptlessinseattle.com/shows/endicott-ny/
LOCATION:Cider Mill Stage\, 2 Nanticoke Ave.\, Endicott\, NY\, 13760\, United States
END:VEVENT
END:VCALENDAR